BEGIN:VCALENDAR
VERSION:2.0
PRODID:-//HBT Security Group Inc - ECPv6.15.17//NONSGML v1.0//EN
CALSCALE:GREGORIAN
METHOD:PUBLISH
X-WR-CALNAME:HBT Security Group Inc
X-ORIGINAL-URL:https://hbtsecuritygroup.com
X-WR-CALDESC:Events for HBT Security Group Inc
REFRESH-INTERVAL;VALUE=DURATION:PT1H
X-Robots-Tag:noindex
X-PUBLISHED-TTL:PT1H
BEGIN:VTIMEZONE
TZID:America/Chicago
BEGIN:DAYLIGHT
TZOFFSETFROM:-0600
TZOFFSETTO:-0500
TZNAME:CDT
DTSTART:20220313T080000
END:DAYLIGHT
BEGIN:STANDARD
TZOFFSETFROM:-0500
TZOFFSETTO:-0600
TZNAME:CST
DTSTART:20221106T070000
END:STANDARD
BEGIN:DAYLIGHT
TZOFFSETFROM:-0600
TZOFFSETTO:-0500
TZNAME:CDT
DTSTART:20230312T080000
END:DAYLIGHT
BEGIN:STANDARD
TZOFFSETFROM:-0500
TZOFFSETTO:-0600
TZNAME:CST
DTSTART:20231105T070000
END:STANDARD
BEGIN:DAYLIGHT
TZOFFSETFROM:-0600
TZOFFSETTO:-0500
TZNAME:CDT
DTSTART:20240310T080000
END:DAYLIGHT
BEGIN:STANDARD
TZOFFSETFROM:-0500
TZOFFSETTO:-0600
TZNAME:CST
DTSTART:20241103T070000
END:STANDARD
BEGIN:DAYLIGHT
TZOFFSETFROM:-0600
TZOFFSETTO:-0500
TZNAME:CDT
DTSTART:20250309T080000
END:DAYLIGHT
BEGIN:STANDARD
TZOFFSETFROM:-0500
TZOFFSETTO:-0600
TZNAME:CST
DTSTART:20251102T070000
END:STANDARD
BEGIN:DAYLIGHT
TZOFFSETFROM:-0600
TZOFFSETTO:-0500
TZNAME:CDT
DTSTART:20260308T080000
END:DAYLIGHT
BEGIN:STANDARD
TZOFFSETFROM:-0500
TZOFFSETTO:-0600
TZNAME:CST
DTSTART:20261101T070000
END:STANDARD
BEGIN:DAYLIGHT
TZOFFSETFROM:-0600
TZOFFSETTO:-0500
TZNAME:CDT
DTSTART:20270314T080000
END:DAYLIGHT
BEGIN:STANDARD
TZOFFSETFROM:-0500
TZOFFSETTO:-0600
TZNAME:CST
DTSTART:20271107T070000
END:STANDARD
END:VTIMEZONE
BEGIN:VEVENT
DTSTART;TZID=America/Chicago:20260324T090000
DTEND;TZID=America/Chicago:20260325T163000
DTSTAMP:20260419T070854
CREATED:20230905T200323Z
LAST-MODIFIED:20260225T160354Z
UID:10000172-1774342800-1774456200@hbtsecuritygroup.com
SUMMARY:Firearm Control Card/FCC/Tan
DESCRIPTION:For those aiming to become certified armed Security Officers\, our second 28-hour firearms course is designed to meet your needs. This comprehensive training aligns with the Illinois State mandate\, fulfilling the 20/48 hour requirements for both unarmed and armed private security training as outlined in the Illinois Private Detective\, Private Alarm\, Private Security\, Fingerprint Vendor\, and Locksmith Act of 2004.
URL:https://hbtsecuritygroup.com/calendar/firearm-control-card-fcc-tan/2026-03-24/
LOCATION:HBT Security Training Facility\, 13010 W. 159th St.\, Homer Glen\, IL\, 60491
CATEGORIES:Security
END:VEVENT
BEGIN:VEVENT
DTSTART;TZID=America/Chicago:20260316T090000
DTEND;TZID=America/Chicago:20260316T163000
DTSTAMP:20260419T070854
CREATED:20231023T235225Z
LAST-MODIFIED:20260225T160152Z
UID:10000014-1773651600-1773678600@hbtsecuritygroup.com
SUMMARY:In-Person Unarmed Basic Security Training (PERC)
DESCRIPTION:If you’re aspiring to embark on a career in the security industry as an unarmed Certified Security Officer in Illinois\, HBT’s first 20-hour course is tailor-made for you. This class equips you with the skills to elevate your current job role while obtaining a state certificate.
URL:https://hbtsecuritygroup.com/calendar/online-unarmed-basic-security-perc-2/
LOCATION:IL
CATEGORIES:Security
END:VEVENT
BEGIN:VEVENT
DTSTART;TZID=America/Chicago:20260210T090000
DTEND;TZID=America/Chicago:20260211T163000
DTSTAMP:20260419T070854
CREATED:20230905T200323Z
LAST-MODIFIED:20260225T160354Z
UID:10000176-1770714000-1770827400@hbtsecuritygroup.com
SUMMARY:Firearm Control Card/FCC/Tan
DESCRIPTION:For those aiming to become certified armed Security Officers\, our second 28-hour firearms course is designed to meet your needs. This comprehensive training aligns with the Illinois State mandate\, fulfilling the 20/48 hour requirements for both unarmed and armed private security training as outlined in the Illinois Private Detective\, Private Alarm\, Private Security\, Fingerprint Vendor\, and Locksmith Act of 2004.
URL:https://hbtsecuritygroup.com/calendar/firearm-control-card-fcc-tan/2026-02-10/
LOCATION:HBT Security Training Facility\, 13010 W. 159th St.\, Homer Glen\, IL\, 60491
CATEGORIES:Security
END:VEVENT
BEGIN:VEVENT
DTSTART;TZID=America/Chicago:20251015T083000
DTEND;TZID=America/Chicago:20251015T163000
DTSTAMP:20260419T070854
CREATED:20240118T172515Z
LAST-MODIFIED:20250923T183457Z
UID:10000162-1760517000-1760545800@hbtsecuritygroup.com
SUMMARY:FCC Recertification
DESCRIPTION:
URL:https://hbtsecuritygroup.com/calendar/fcc-recertification/2025-10-15/
LOCATION:IL
CATEGORIES:Security
END:VEVENT
BEGIN:VEVENT
DTSTART;TZID=America/Chicago:20250731T090000
DTEND;TZID=America/Chicago:20250731T163000
DTSTAMP:20260419T070854
CREATED:20240118T172515Z
LAST-MODIFIED:20250923T183457Z
UID:10000040-1753952400-1753979400@hbtsecuritygroup.com
SUMMARY:FCC Recertification
DESCRIPTION:
URL:https://hbtsecuritygroup.com/calendar/fcc-recertification/2025-07-31/
LOCATION:IL
CATEGORIES:Security
END:VEVENT
BEGIN:VEVENT
DTSTART;TZID=America/Chicago:20250607T090000
DTEND;TZID=America/Chicago:20250608T163000
DTSTAMP:20260419T070854
CREATED:20250423T170950Z
LAST-MODIFIED:20250507T134634Z
UID:10000113-1749286800-1749400200@hbtsecuritygroup.com
SUMMARY:Firearm Control Card/FCC/Tan
DESCRIPTION:For those aiming to become certified armed Security Officers\, our second 28-hour firearms course is designed to meet your needs. This comprehensive training aligns with the Illinois State mandate\, fulfilling the 20/48 hour requirements for both unarmed and armed private security training as outlined in the Illinois Private Detective\, Private Alarm\, Private Security\, Fingerprint Vendor\, and Locksmith Act of 2004.
URL:https://hbtsecuritygroup.com/calendar/firearm-control-card-fcc-tan-2/
LOCATION:HBT Security Training Facility\, 13010 W. 159th St.\, Homer Glen\, IL\, 60491
CATEGORIES:Security
END:VEVENT
BEGIN:VEVENT
DTSTART;TZID=America/Chicago:20250305T180000
DTEND;TZID=America/Chicago:20250305T210000
DTSTAMP:20260419T070854
CREATED:20250205T164813Z
LAST-MODIFIED:20250205T164913Z
UID:10000112-1741197600-1741208400@hbtsecuritygroup.com
SUMMARY:Security Guard Training-Armed
DESCRIPTION:This is an advanced training course for individuals seeking certification as armed security guards. Building on the foundational skills acquired in 6CRJ 200 this course focuses on the specialized knowledge and techniques required for armed security duties. Topics include firearm safety and handling\, legal use of force\, tactical response\, and advanced threat assessment. Practical training and scenario-based exercises are integral components of this course\, ensuring that students are prepared to responsibly and effectively carry and use firearms in a security context. \n\n\n\nProgram objectives: \n\n\n\n\nDemonstrate proficiency in firearm safety\, handling and maintenance.\n\n\n\nUnderstand and apply legal principles regarding the use of force and firearms in security operations.\n\n\n\nExecute tactical firearm techniques with accuracy and control.\n\n\n\nConduct advanced threat assessments and respond appropriately to armed security situations.\n\n\n\nUtilize scenario-based training to develop practical skills in high-pressure environments.\n\n\n\nProvide emergency medical response in situations involving firearms.\n\n\n\nNavigate ethical dilemmas and make informed decisions in armed security roles.\n\n\n\nManage conflicts and de-escalate situations while armed.\n\n\n\n\nProgram Outline: \n\n\n\n\nFirearm safety\n\n\n\nBasic principles of Marksmanship & Range Instruction\n\n\n\nCare\, cleaning\, loading\, & range instruction\n\n\n\nAll applicable state and Federal Laws relating to the Ownership\, storage\, carry and transportation of a firearm.\n\n\n\nWeapon handling\n\n\n\n\nSpring 2025 Schedule \n\n\n\n\nThursday\, April 3\, 2025\n\n\n\nWednesday\, March 5\, 2025\n\n\n\nThursday\, March 6\, 2025\n\n\n\nWednesday\, March 12\, 2025\n\n\n\nThursday\, March 13\, 2025\n\n\n\nWednesday\, March 19\, 2025\n\n\n\nThursday\, March 20\, 2025\n\n\n\nWednesday\, March 26\, 2025\n\n\n\nThursday\, March 27\, 2025\n\n\n\nWednesday\, April 2\, 2025
URL:https://hbtsecuritygroup.com/calendar/security-guard-training-armed/
LOCATION:IL
CATEGORIES:Security,Southern Region
END:VEVENT
BEGIN:VEVENT
DTSTART;TZID=America/Chicago:20240715T090000
DTEND;TZID=America/Chicago:20240715T170000
DTSTAMP:20260419T070854
CREATED:20240227T171802Z
LAST-MODIFIED:20241120T182154Z
UID:10000078-1721034000-1721062800@hbtsecuritygroup.com
SUMMARY:Online Unarmed Basic Security (PERC)
DESCRIPTION:If you’re aspiring to embark on a career in the security industry as an unarmed Certified Security Officer in Illinois\, HBT’s first 20-hour course is tailor-made for you. This class equips you with the skills to elevate your current job role while obtaining a state certificate.
URL:https://hbtsecuritygroup.com/calendar/online-unarmed-basic-security-perc-5/2024-07-15/
LOCATION:IL
CATEGORIES:Security
END:VEVENT
BEGIN:VEVENT
DTSTART;TZID=America/Chicago:20240122T090000
DTEND;TZID=America/Chicago:20240122T170000
DTSTAMP:20260419T070854
CREATED:20231229T180259Z
LAST-MODIFIED:20231229T180301Z
UID:10000013-1705914000-1705942800@hbtsecuritygroup.com
SUMMARY:Online Unarmed Basic Security (PERC)
DESCRIPTION:If you’re aspiring to embark on a career in the security industry as an unarmed Certified Security Officer in Illinois\, HBT’s first 20-hour course is tailor-made for you. This class equips you with the skills to elevate your current job role while obtaining a state certificate.
URL:https://hbtsecuritygroup.com/calendar/online-unarmed-basic-security-perc-4/
LOCATION:IL
CATEGORIES:Security
END:VEVENT
BEGIN:VEVENT
DTSTART;TZID=America/Chicago:20231218T090000
DTEND;TZID=America/Chicago:20231218T170000
DTSTAMP:20260419T070854
CREATED:20231127T210041Z
LAST-MODIFIED:20240227T171632Z
UID:10000018-1702890000-1702918800@hbtsecuritygroup.com
SUMMARY:Online Unarmed Basic Security (PERC)
DESCRIPTION:If you’re aspiring to embark on a career in the security industry as an unarmed Certified Security Officer in Illinois\, HBT’s first 20-hour course is tailor-made for you. This class equips you with the skills to elevate your current job role while obtaining a state certificate.
URL:https://hbtsecuritygroup.com/calendar/online-unarmed-basic-security-perc-3/2023-12-18/
LOCATION:IL
CATEGORIES:Security
END:VEVENT
BEGIN:VEVENT
DTSTART;TZID=America/Chicago:20231120T090000
DTEND;TZID=America/Chicago:20231120T170000
DTSTAMP:20260419T070854
CREATED:20230905T195933Z
LAST-MODIFIED:20231127T205831Z
UID:10000034-1700470800-1700499600@hbtsecuritygroup.com
SUMMARY:Online Unarmed Basic Security (PERC)
DESCRIPTION:If you’re aspiring to embark on a career in the security industry as an unarmed Certified Security Officer in Illinois\, HBT’s first 20-hour course is tailor-made for you. This class equips you with the skills to elevate your current job role while obtaining a state certificate.
URL:https://hbtsecuritygroup.com/calendar/online-unarmed-basic-security-perc/2023-11-20/
LOCATION:IL
CATEGORIES:Security
END:VEVENT
BEGIN:VEVENT
DTSTART;TZID=America/Chicago:20230924T090000
DTEND;TZID=America/Chicago:20230924T170000
DTSTAMP:20260419T070854
CREATED:20230905T195933Z
LAST-MODIFIED:20231127T205831Z
UID:10000006-1695546000-1695574800@hbtsecuritygroup.com
SUMMARY:Online Unarmed Basic Security (PERC)
DESCRIPTION:If you’re aspiring to embark on a career in the security industry as an unarmed Certified Security Officer in Illinois\, HBT’s first 20-hour course is tailor-made for you. This class equips you with the skills to elevate your current job role while obtaining a state certificate.
URL:https://hbtsecuritygroup.com/calendar/online-unarmed-basic-security-perc/2023-09-24/
LOCATION:IL
CATEGORIES:Security
END:VEVENT
END:VCALENDAR